BEGIN:VCALENDAR
VERSION:2.0
PRODID:SchoolNow
CALSCALE:GREGORIAN
BEGIN:VEVENT
UID:3da4b812-fbbf-11f0-8226-02e43978dd25
DTSTAMP:20260127T203204Z
SUMMARY:CDD Board Meeting - Apr. 14\, 2025
LOCATION:The Springhill Suites located at 16615 Crosspoint Run\, Land O’ 
 Lakes\, FL 34638
URL;VALUE=URI:https://www.northridgecdd.com/calendar/8845243/cdd-board-meet
 ing-apr-14-2025
DTSTART:20250414T150000Z
DTEND:20250414T160000Z
ATTACH;FILENAME=2025-04-14 Northridge Continued Regular Meeting Minutes.pdf
 ;FMTTYPE=application/pdf:https://campussuite-storage.s3.amazonaws.com/prod
 /1559249/29473692-ed51-11ef-9e3d-0a58a9feac02/3064464/efb6f3fa-fbb8-11f0-9
 9fc-0a58a9feac02/file/2025-04-14 Northridge Continued Regular Meeting Minu
 tes.pdf
ATTACH;FILENAME=2025-04-14 Northridge Continued Regular Meeting Agenda.pdf;
 FMTTYPE=application/pdf:https://campussuite-storage.s3.amazonaws.com/prod/
 1559249/29473692-ed51-11ef-9e3d-0a58a9feac02/3064455/8124d3da-fbb8-11f0-94
 74-0e637a4a0ca3/file/2025-04-14 Northridge Continued Regular Meeting Agend
 a.pdf
ATTACH;FILENAME=2025-04-14 Northridge Landowners' Meeting Agenda Package.pd
 f;FMTTYPE=application/pdf:https://campussuite-storage.s3.amazonaws.com/pro
 d/1559249/29473692-ed51-11ef-9e3d-0a58a9feac02/3064452/47809a56-fbb8-11f0-
 9fdc-0a58a9feac02/file/2025-04-14 Northridge Landowners' Meeting Agenda Pa
 ckage.pdf
END:VEVENT
END:VCALENDAR
