BEGIN:VCALENDAR
VERSION:2.0
PRODID:SchoolNow
CALSCALE:GREGORIAN
BEGIN:VEVENT
UID:eea8c108-8996-11f0-bd9e-029f65b6582b
DTSTAMP:20250904T135619Z
SUMMARY:CDD Board Meeting - Aug. 2026 - Budget Adoption
LOCATION:The Springhill Suites located at 16615 Crosspoint Run\, Land O’ 
 Lakes\, FL 34638
URL;VALUE=URI:https://www.northridgecdd.com/calendar/8578434/cdd-board-meet
 ing-aug-2026-budget-adoption
DTSTART:20260810T150000Z
DTEND:20260810T160000Z
END:VEVENT
END:VCALENDAR
