BEGIN:VCALENDAR
VERSION:2.0
PRODID:SchoolNow
CALSCALE:GREGORIAN
BEGIN:VEVENT
UID:1335c09e-8996-11f0-90ed-0affc1bf85c7
DTSTAMP:20250930T124959Z
SUMMARY:CDD Board Meeting - Oct. 2025 - Cancelled
LOCATION:The Springhill Suites located at 16615 Crosspoint Run\, Land O’ 
 Lakes\, FL 34638
URL;VALUE=URI:https://www.northridgecdd.com/calendar/8578410/cdd-board-meet
 ing-oct-2025
DTSTART:20251013T150000Z
DTEND:20251013T160000Z
END:VEVENT
END:VCALENDAR
