BEGIN:VCALENDAR
VERSION:2.0
PRODID:SchoolNow
CALSCALE:GREGORIAN
BEGIN:VEVENT
UID:0de04fda-2b7f-11f0-9bb2-0e6ff7fe0865
DTSTAMP:20260127T200843Z
SUMMARY:CDD Board Meeting - May 19\, 2025
LOCATION:The Springhill Suites located at 16615 Crosspoint Run\, Land O’ 
 Lakes\, FL 34638
URL;VALUE=URI:https://www.northridgecdd.com/calendar/8085762/cdd-board-meet
 ing-may-19-2025
DTSTART:20250519T150000Z
DTEND:20250519T160000Z
ATTACH;FILENAME=2025-05-19 Northridge Public Hearing & Regular Meeting Minu
 tes.pdf;FMTTYPE=application/pdf:https://campussuite-storage.s3.amazonaws.c
 om/prod/1559249/29473692-ed51-11ef-9e3d-0a58a9feac02/3064461/efb6ee6e-fbb8
 -11f0-9843-0a58a9feac02/file/2025-05-19 Northridge Public Hearing & Regula
 r Meeting Minutes.pdf
ATTACH;FILENAME=2025-05-19 Northridge Public Hearing & Regular Meeting Agen
 da Package.pdf;FMTTYPE=application/pdf:https://campussuite-storage.s3.amaz
 onaws.com/prod/1559249/29473692-ed51-11ef-9e3d-0a58a9feac02/3064450/478095
 92-fbb8-11f0-81e0-0a58a9feac02/file/2025-05-19 Northridge Public Hearing &
  Regular Meeting Agenda Package.pdf
ATTACH;FILENAME=2025-05-19 Northridge Public Hearing & Regular Meeting Agen
 da.pdf;FMTTYPE=application/pdf:https://campussuite-storage.s3.amazonaws.co
 m/prod/1559249/29473692-ed51-11ef-9e3d-0a58a9feac02/3064470/6323a2de-fbb9-
 11f0-9ed6-02039515c9a7/file/2025-05-19 Northridge Public Hearing & Regular
  Meeting Agenda.pdf
END:VEVENT
END:VCALENDAR
