BEGIN:VCALENDAR
VERSION:2.0
PRODID:SchoolNow
CALSCALE:GREGORIAN
BEGIN:VEVENT
UID:5ed8b648-05c3-11f0-b64c-0a58a9feac02
DTSTAMP:20260127T211722Z
SUMMARY:CDD Board Meeting - Feb. 2025
LOCATION:The Springhill Suites located at 16615 Crosspoint Run\, Land O’ 
 Lakes\, FL 34638
URL;VALUE=URI:https://www.northridgecdd.com/calendar/7733838/cdd-board-meet
 ing-feb-2025
DTSTART:20250210T160000Z
DTEND:20250210T170000Z
ATTACH;FILENAME=2025-02-10 Northridge Special Organizational Meeting Agenda
 .pdf;FMTTYPE=application/pdf:https://campussuite-storage.s3.amazonaws.com/
 prod/1559249/29473692-ed51-11ef-9e3d-0a58a9feac02/3064485/8d763e00-fbbb-11
 f0-9ee0-0a58a9feac02/file/2025-02-10 Northridge Special Organizational Mee
 ting Agenda.pdf
ATTACH;FILENAME=2025-02-10 Northridge Special Organizational Meeting Minute
 s.pdf;FMTTYPE=application/pdf:https://campussuite-storage.s3.amazonaws.com
 /prod/1559249/29473692-ed51-11ef-9e3d-0a58a9feac02/3064466/efb6f67a-fbb8-1
 1f0-8b37-0a58a9feac02/file/2025-02-10 Northridge Special Organizational Me
 eting Minutes.pdf
ATTACH;FILENAME=2025-02-10 Northridge Special Organizational Meeting Agenda
  Package.pdf;FMTTYPE=application/pdf:https://campussuite-storage.s3.amazon
 aws.com/prod/1559249/29473692-ed51-11ef-9e3d-0a58a9feac02/3064507/63e97854
 -fbc5-11f0-9290-0a58a9feac02/file/2025-02-10 Northridge Special Organizati
 onal Meeting Agenda Package.pdf
END:VEVENT
END:VCALENDAR
