BEGIN:VCALENDAR
VERSION:2.0
PRODID:SchoolNow
CALSCALE:GREGORIAN
BEGIN:VEVENT
UID:ba229ab4-ed59-11ef-a934-0affd501c9e9
DTSTAMP:20250826T173233Z
SUMMARY:CDD Board Meeting - Sept. 2025 - Cancelled
LOCATION:The Springhill Suites located at 16615 Crosspoint Run\, Land O’ 
 Lakes\, FL 34638
URL;VALUE=URI:https://www.northridgecdd.com/calendar/7485853/cdd-board-meet
 ing-sept-2025-cancelled
DTSTART:20250908T150000Z
DTEND:20250908T160000Z
END:VEVENT
END:VCALENDAR
