BEGIN:VCALENDAR
VERSION:2.0
PRODID:SchoolNow
CALSCALE:GREGORIAN
BEGIN:VEVENT
UID:a85ab686-ed59-11ef-bf8d-0affc7f63ef1
DTSTAMP:20260127T200734Z
SUMMARY:CDD Board Meeting - Aug. 2025
LOCATION:The Springhill Suites located at 16615 Crosspoint Run\, Land O’ 
 Lakes\, FL 34638
URL;VALUE=URI:https://www.northridgecdd.com/calendar/7485852/cdd-board-meet
 ing-aug-2025
DTSTART:20250811T150000Z
DTEND:20250811T160000Z
ATTACH;FILENAME=2025-08-11 Northridge Public Hearing & Regular Meeting Agen
 da.pdf;FMTTYPE=application/pdf:https://campussuite-storage.s3.amazonaws.co
 m/prod/1559249/29473692-ed51-11ef-9e3d-0a58a9feac02/3064453/81248524-fbb8-
 11f0-a0d6-0e637a4a0ca3/file/2025-08-11 Northridge Public Hearing & Regular
  Meeting Agenda.pdf
ATTACH;FILENAME=2025-08-11 Northridge Public Hearing & Regular Meeting Agen
 da Package.pdf;FMTTYPE=application/pdf:https://campussuite-storage.s3.amaz
 onaws.com/prod/1559249/29473692-ed51-11ef-9e3d-0a58a9feac02/3064449/478048
 94-fbb8-11f0-a04a-0a58a9feac02/file/2025-08-11 Northridge Public Hearing &
  Regular Meeting Agenda Package.pdf
ATTACH;FILENAME=2025-08-11 Northridge Public Hearing & Regular Meeting Minu
 tes.pdf;FMTTYPE=application/pdf:https://campussuite-storage.s3.amazonaws.c
 om/prod/1559249/29473692-ed51-11ef-9e3d-0a58a9feac02/3064460/efb6b296-fbb8
 -11f0-89df-0a58a9feac02/file/2025-08-11 Northridge Public Hearing & Regula
 r Meeting Minutes.pdf
END:VEVENT
END:VCALENDAR
