BEGIN:VCALENDAR
VERSION:2.0
PRODID:SchoolNow
CALSCALE:GREGORIAN
BEGIN:VEVENT
UID:923a4c7c-ed59-11ef-8b14-0e46a8e27ea1
DTSTAMP:20260127T203003Z
SUMMARY:CDD Board Meeting - Jul. 2025 - Cancelled
LOCATION:The Springhill Suites located at 16615 Crosspoint Run\, Land O’ 
 Lakes\, FL 34638
URL;VALUE=URI:https://www.northridgecdd.com/calendar/7485851/cdd-board-meet
 ing-jul-2025
DTSTART:20250714T150000Z
DTEND:20250714T160000Z
END:VEVENT
END:VCALENDAR
