BEGIN:VCALENDAR
VERSION:2.0
PRODID:SchoolNow
CALSCALE:GREGORIAN
BEGIN:VEVENT
UID:80f0ddd2-ed59-11ef-a41e-0a58a9feac02
DTSTAMP:20250602T141104Z
SUMMARY:CDD Board Meeting - Jun. 2025 - Cancelled
LOCATION:The Springhill Suites located at 16615 Crosspoint Run\, Land O’ 
 Lakes\, FL 34638
URL;VALUE=URI:https://www.northridgecdd.com/calendar/7485850/cdd-board-meet
 ing-jun-2025-cancelled
DTSTART:20250609T150000Z
DTEND:20250609T160000Z
END:VEVENT
END:VCALENDAR
