BEGIN:VCALENDAR
VERSION:2.0
PRODID:SchoolNow
CALSCALE:GREGORIAN
BEGIN:VEVENT
UID:5ff92314-ed59-11ef-b3b4-0affcd2aea95
DTSTAMP:20260127T200926Z
SUMMARY:CDD Board Meeting - May 2025
LOCATION:The Springhill Suites located at 16615 Crosspoint Run\, Land O’ 
 Lakes\, FL 34638
URL;VALUE=URI:https://www.northridgecdd.com/calendar/7485849/cdd-board-meet
 ing-may-2025
DTSTART:20250512T150000Z
DTEND:20250512T160000Z
ATTACH;FILENAME=2025-05-12 Northridge Agenda.pdf;FMTTYPE=application/pdf:ht
 tps://campussuite-storage.s3.amazonaws.com/prod/1559249/29473692-ed51-11ef
 -9e3d-0a58a9feac02/2949361/48bf92f6-29f8-11f0-913f-0e060aa23985/file/2025-
 05-12 Northridge Agenda.pdf
ATTACH;FILENAME=2025-05-12 Northridge Agenda Package.pdf;FMTTYPE=applicatio
 n/pdf:https://campussuite-storage.s3.amazonaws.com/prod/1559249/29473692-e
 d51-11ef-9e3d-0a58a9feac02/2949360/48bf5ec6-29f8-11f0-b6c6-0e060aa23985/fi
 le/2025-05-12 Northridge Agenda Package.pdf
ATTACH;FILENAME=2025-05-12 Northridge Public Hearing & Regular Meeting Minu
 tes.pdf;FMTTYPE=application/pdf:https://campussuite-storage.s3.amazonaws.c
 om/prod/1559249/29473692-ed51-11ef-9e3d-0a58a9feac02/3064462/efb6f134-fbb8
 -11f0-840c-0a58a9feac02/file/2025-05-12 Northridge Public Hearing & Regula
 r Meeting Minutes.pdf
END:VEVENT
END:VCALENDAR
