BEGIN:VCALENDAR
VERSION:2.0
PRODID:SchoolNow
CALSCALE:GREGORIAN
BEGIN:VEVENT
UID:4d2682a4-ed59-11ef-b223-0affcd2aea95
DTSTAMP:20260127T203335Z
SUMMARY:CDD Board Meeting - Apr. 2025
LOCATION:The Springhill Suites located at 16615 Crosspoint Run\, Land O’ 
 Lakes\, FL 34638
URL;VALUE=URI:https://www.northridgecdd.com/calendar/7485848/cdd-board-meet
 ing-apr-2025
DTSTART:20250407T150000Z
DTEND:20250407T160000Z
END:VEVENT
END:VCALENDAR
