BEGIN:VCALENDAR
VERSION:2.0
PRODID:SchoolNow
CALSCALE:GREGORIAN
BEGIN:VEVENT
UID:3a30c63c-ed59-11ef-af84-0a58a9feac02
DTSTAMP:20260127T211702Z
SUMMARY:CDD Board Meeting - Mar. 2025
LOCATION:The Springhill Suites located at 16615 Crosspoint Run\, Land O’ 
 Lakes\, FL 34638
URL;VALUE=URI:https://www.northridgecdd.com/calendar/7485847/cdd-board-meet
 ing-mar-2025
DTSTART:20250310T150000Z
DTEND:20250310T160000Z
ATTACH;FILENAME=2025-03-10 Northridge Regular Meeting Minutes.pdf;FMTTYPE=a
 pplication/pdf:https://campussuite-storage.s3.amazonaws.com/prod/1559249/2
 9473692-ed51-11ef-9e3d-0a58a9feac02/3064465/efb6f53a-fbb8-11f0-8be2-0a58a9
 feac02/file/2025-03-10 Northridge Regular Meeting Minutes.pdf
ATTACH;FILENAME=2025-03-10 Northridge Regular Meeting Agenda.pdf;FMTTYPE=ap
 plication/pdf:https://campussuite-storage.s3.amazonaws.com/prod/1559249/29
 473692-ed51-11ef-9e3d-0a58a9feac02/3064486/8d767488-fbbb-11f0-b032-0a58a9f
 eac02/file/2025-03-10 Northridge Regular Meeting Agenda.pdf
ATTACH;FILENAME=2025-03-10 Northridge Regular Meeting Agenda Package.pdf;FM
 TTYPE=application/pdf:https://campussuite-storage.s3.amazonaws.com/prod/15
 59249/29473692-ed51-11ef-9e3d-0a58a9feac02/3064508/63e9c386-fbc5-11f0-9ebf
 -0a58a9feac02/file/2025-03-10 Northridge Regular Meeting Agenda Package.pd
 f
END:VEVENT
END:VCALENDAR
